BEGIN:VCALENDAR
VERSION:2.0
PRODID:icalendar-ruby
CALSCALE:GREGORIAN
METHOD:PUBLISH
BEGIN:VEVENT
DTSTAMP:20260421T194156Z
UID:7-781178@pentecostalsofwilliamston.org
DTSTART;VALUE=DATE:20260920
DTEND;VALUE=DATE:20260920
CLASS:PUBLIC
CREATED:20260421T143853
DESCRIPTION: If you want to grow in God and expand your spiritual experienc
 e like you never have before\, join us Sundays at 11:15am!
LAST-MODIFIED:20260421T143853
LOCATION:2652 Haslett Road\, Williamston\, MI 48895
SUMMARY:Sunday Worship
URL;VALUE=URI:https://www.pentecostalsofwilliamston.org/events/sunday-worsh
 ip--7/2026-09-20
ATTACH;FILENAME=Worship Team FB Banner.png;FMTTYPE=image/png:https://dq5pwp
 g1q8ru0.cloudfront.net/2021/09/02/09/51/46/77dfb3a9-c4dc-44dc-b957-de5735e
 bf748/Worship%20Team%20FB%20Banner.png
END:VEVENT
END:VCALENDAR
