BEGIN:VCALENDAR
VERSION:2.0
PRODID:icalendar-ruby
CALSCALE:GREGORIAN
METHOD:PUBLISH
BEGIN:VEVENT
DTSTAMP:20260421T200251Z
UID:61-781284@pentecostalsofwilliamston.org
DTSTART:20260923T230000Z
DTEND:20260924T003000Z
CLASS:PUBLIC
CREATED:20260421T143854
DESCRIPTION:If you are looking to grow in your walk with God\, we invite yo
 u to join us as we study God’s Word!  These groups meet Wednesdays at 7
 pm. \nGrow Groups are transformational!\n\nThey follow Jesus’ example\n
 They direct us in wisdom\nThey create meaningful connections\nThey provide
  necessary encouragement\nThey keep us accountable\nThey transform our fam
 ilies\, workplaces and communities\n
LAST-MODIFIED:20260421T143854
LOCATION:2652 Haslett Road\, Williamston\, MI 48895
SUMMARY:Grow Group
URL;VALUE=URI:https://www.pentecostalsofwilliamston.org/events/grow-group--
 61/2026-09-23
ATTACH;FILENAME=grow group.jpeg;FMTTYPE=image/jpeg:https://dq5pwpg1q8ru0.cl
 oudfront.net/2024/01/18/19/26/23/117fcfff-8570-433b-98ad-4a4458e70889/grow
 %20group.jpeg
END:VEVENT
END:VCALENDAR
